BEGIN:VCALENDAR
VERSION:2.0
PRODID:-//TocTocToc ! - ECPv6.15.20//NONSGML v1.0//EN
CALSCALE:GREGORIAN
METHOD:PUBLISH
X-WR-CALNAME:TocTocToc !
X-ORIGINAL-URL:https://www.toctoctoc.net
X-WR-CALDESC:Évènements pour TocTocToc !
REFRESH-INTERVAL;VALUE=DURATION:PT1H
X-Robots-Tag:noindex
X-PUBLISHED-TTL:PT1H
BEGIN:VTIMEZONE
TZID:Europe/Brussels
BEGIN:DAYLIGHT
TZOFFSETFROM:+0100
TZOFFSETTO:+0200
TZNAME:CEST
DTSTART:20230326T010000
END:DAYLIGHT
BEGIN:STANDARD
TZOFFSETFROM:+0200
TZOFFSETTO:+0100
TZNAME:CET
DTSTART:20231029T010000
END:STANDARD
BEGIN:DAYLIGHT
TZOFFSETFROM:+0100
TZOFFSETTO:+0200
TZNAME:CEST
DTSTART:20240331T010000
END:DAYLIGHT
BEGIN:STANDARD
TZOFFSETFROM:+0200
TZOFFSETTO:+0100
TZNAME:CET
DTSTART:20241027T010000
END:STANDARD
BEGIN:DAYLIGHT
TZOFFSETFROM:+0100
TZOFFSETTO:+0200
TZNAME:CEST
DTSTART:20250330T010000
END:DAYLIGHT
BEGIN:STANDARD
TZOFFSETFROM:+0200
TZOFFSETTO:+0100
TZNAME:CET
DTSTART:20251026T010000
END:STANDARD
END:VTIMEZONE
BEGIN:VEVENT
DTSTART;VALUE=DATE:20240508
DTEND;VALUE=DATE:20240609
DTSTAMP:20260425T125519
CREATED:20240227T124535Z
LAST-MODIFIED:20240808T075851Z
UID:10000024-1715126400-1717891199@www.toctoctoc.net
SUMMARY:Jeux Nationaux d’Été
DESCRIPTION:Chaque année\, pendant le weekend de l’Ascension\, Special Olympics Belgium organise des Jeux Nationaux.\nPlus de 3 000 athlètes\, accompagnés de 1 200 coaches\, participent aux Jeux dans une vingtaine de disciplines sportives.  \nCe ne sont pas moins de 2 000 volontaires par jour qui les encadrent et qui font de ces Jeux un moment inoubliables pour les athlètes.    \nLes prochains Jeux Nationaux d’Eté auront lieu à La Louvière du 8 au 11 mai 2024. Plus de 3 000 athlètes participeront dans 20 sports et un programme de santé avec 8 disciplines. Sans oublier\, un Torch Run\, une Cérémonie d’Ouverture\, des animations et une Cérémonie de Clôture.
URL:https://www.toctoctoc.net/event/jeux-nationaux-dete/
LOCATION:Hainaut
CATEGORIES:Exposition,Salon de rencontre
ATTACH;FMTTYPE=image/jpeg:https://www.toctoctoc.net/wp-content/uploads/2024/02/special-olympics-24.jpg
ORGANIZER;CN="ASBL Special Olympics Belgium":MAILTO:info@specialolympics.be
END:VEVENT
END:VCALENDAR