BEGIN:VCALENDAR
VERSION:2.0
PRODID:-//TocTocToc ! - ECPv6.15.20//NONSGML v1.0//EN
CALSCALE:GREGORIAN
METHOD:PUBLISH
X-ORIGINAL-URL:https://www.toctoctoc.net
X-WR-CALDESC:Évènements pour TocTocToc !
REFRESH-INTERVAL;VALUE=DURATION:PT1H
X-Robots-Tag:noindex
X-PUBLISHED-TTL:PT1H
BEGIN:VTIMEZONE
TZID:Europe/Brussels
BEGIN:DAYLIGHT
TZOFFSETFROM:+0100
TZOFFSETTO:+0200
TZNAME:CEST
DTSTART:20230326T010000
END:DAYLIGHT
BEGIN:STANDARD
TZOFFSETFROM:+0200
TZOFFSETTO:+0100
TZNAME:CET
DTSTART:20231029T010000
END:STANDARD
BEGIN:DAYLIGHT
TZOFFSETFROM:+0100
TZOFFSETTO:+0200
TZNAME:CEST
DTSTART:20240331T010000
END:DAYLIGHT
BEGIN:STANDARD
TZOFFSETFROM:+0200
TZOFFSETTO:+0100
TZNAME:CET
DTSTART:20241027T010000
END:STANDARD
BEGIN:DAYLIGHT
TZOFFSETFROM:+0100
TZOFFSETTO:+0200
TZNAME:CEST
DTSTART:20250330T010000
END:DAYLIGHT
BEGIN:STANDARD
TZOFFSETFROM:+0200
TZOFFSETTO:+0100
TZNAME:CET
DTSTART:20251026T010000
END:STANDARD
END:VTIMEZONE
BEGIN:VEVENT
DTSTART;TZID=Europe/Brussels:20241002T140000
DTEND;TZID=Europe/Brussels:20241002T183000
DTSTAMP:20260425T052745
CREATED:20240911T101948Z
LAST-MODIFIED:20241115T105255Z
UID:10000042-1727877600-1727893800@www.toctoctoc.net
SUMMARY:L'espace de rencontres "Le Local" à Mons
DESCRIPTION:Quoi ?\nLe SAPHA a lancé le projet “Renc’autres” en 2016.\nLe but est d’aider les adultes en situation de handicap à se rencontrer. \nIls proposent un lieu de rencontre appelé “Le Local”\, ouvert tous les mercredis de 14h à 18h30. \nOù ?\nL’adresse est :\n116\, rue d’Havré à Mons. \nComment avoir plus d’infos ?\n\nFacebook : Renc’Autres
URL:https://www.toctoctoc.net/event/lespace-de-rencontres-le-local-a-mons/2024-10-02/
LOCATION:116 rue d’Havré\, 7000 Mons\, 116\, rue d'Havré\, Mons\, Hainaut\, 7000
CATEGORIES:Salon de rencontre
ATTACH;FMTTYPE=image/jpeg:https://www.toctoctoc.net/wp-content/uploads/2024/09/275942184_3059222871057743_9046653799542547423_n.jpg
ORGANIZER;CN="Sapha":MAILTO:info@sapha.be
END:VEVENT
BEGIN:VEVENT
DTSTART;TZID=Europe/Brussels:20241009T140000
DTEND;TZID=Europe/Brussels:20241009T183000
DTSTAMP:20260425T052745
CREATED:20240911T101948Z
LAST-MODIFIED:20241115T105255Z
UID:10000043-1728482400-1728498600@www.toctoctoc.net
SUMMARY:L'espace de rencontres "Le Local" à Mons
DESCRIPTION:Quoi ?\nLe SAPHA a lancé le projet “Renc’autres” en 2016.\nLe but est d’aider les adultes en situation de handicap à se rencontrer. \nIls proposent un lieu de rencontre appelé “Le Local”\, ouvert tous les mercredis de 14h à 18h30. \nOù ?\nL’adresse est :\n116\, rue d’Havré à Mons. \nComment avoir plus d’infos ?\n\nFacebook : Renc’Autres
URL:https://www.toctoctoc.net/event/lespace-de-rencontres-le-local-a-mons/2024-10-09/
LOCATION:116 rue d’Havré\, 7000 Mons\, 116\, rue d'Havré\, Mons\, Hainaut\, 7000
CATEGORIES:Salon de rencontre
ATTACH;FMTTYPE=image/jpeg:https://www.toctoctoc.net/wp-content/uploads/2024/09/275942184_3059222871057743_9046653799542547423_n.jpg
ORGANIZER;CN="Sapha":MAILTO:info@sapha.be
END:VEVENT
BEGIN:VEVENT
DTSTART;TZID=Europe/Brussels:20241016T140000
DTEND;TZID=Europe/Brussels:20241016T183000
DTSTAMP:20260425T052745
CREATED:20240911T101948Z
LAST-MODIFIED:20241115T105255Z
UID:10000044-1729087200-1729103400@www.toctoctoc.net
SUMMARY:L'espace de rencontres "Le Local" à Mons
DESCRIPTION:Quoi ?\nLe SAPHA a lancé le projet “Renc’autres” en 2016.\nLe but est d’aider les adultes en situation de handicap à se rencontrer. \nIls proposent un lieu de rencontre appelé “Le Local”\, ouvert tous les mercredis de 14h à 18h30. \nOù ?\nL’adresse est :\n116\, rue d’Havré à Mons. \nComment avoir plus d’infos ?\n\nFacebook : Renc’Autres
URL:https://www.toctoctoc.net/event/lespace-de-rencontres-le-local-a-mons/2024-10-16/
LOCATION:116 rue d’Havré\, 7000 Mons\, 116\, rue d'Havré\, Mons\, Hainaut\, 7000
CATEGORIES:Salon de rencontre
ATTACH;FMTTYPE=image/jpeg:https://www.toctoctoc.net/wp-content/uploads/2024/09/275942184_3059222871057743_9046653799542547423_n.jpg
ORGANIZER;CN="Sapha":MAILTO:info@sapha.be
END:VEVENT
BEGIN:VEVENT
DTSTART;TZID=Europe/Brussels:20241023T140000
DTEND;TZID=Europe/Brussels:20241023T183000
DTSTAMP:20260425T052745
CREATED:20240911T101948Z
LAST-MODIFIED:20241115T105255Z
UID:10000045-1729692000-1729708200@www.toctoctoc.net
SUMMARY:L'espace de rencontres "Le Local" à Mons
DESCRIPTION:Quoi ?\nLe SAPHA a lancé le projet “Renc’autres” en 2016.\nLe but est d’aider les adultes en situation de handicap à se rencontrer. \nIls proposent un lieu de rencontre appelé “Le Local”\, ouvert tous les mercredis de 14h à 18h30. \nOù ?\nL’adresse est :\n116\, rue d’Havré à Mons. \nComment avoir plus d’infos ?\n\nFacebook : Renc’Autres
URL:https://www.toctoctoc.net/event/lespace-de-rencontres-le-local-a-mons/2024-10-23/
LOCATION:116 rue d’Havré\, 7000 Mons\, 116\, rue d'Havré\, Mons\, Hainaut\, 7000
CATEGORIES:Salon de rencontre
ATTACH;FMTTYPE=image/jpeg:https://www.toctoctoc.net/wp-content/uploads/2024/09/275942184_3059222871057743_9046653799542547423_n.jpg
ORGANIZER;CN="Sapha":MAILTO:info@sapha.be
END:VEVENT
BEGIN:VEVENT
DTSTART;TZID=Europe/Brussels:20241030T140000
DTEND;TZID=Europe/Brussels:20241030T183000
DTSTAMP:20260425T052745
CREATED:20240911T101948Z
LAST-MODIFIED:20241115T105255Z
UID:10000046-1730296800-1730313000@www.toctoctoc.net
SUMMARY:L'espace de rencontres "Le Local" à Mons
DESCRIPTION:Quoi ?\nLe SAPHA a lancé le projet “Renc’autres” en 2016.\nLe but est d’aider les adultes en situation de handicap à se rencontrer. \nIls proposent un lieu de rencontre appelé “Le Local”\, ouvert tous les mercredis de 14h à 18h30. \nOù ?\nL’adresse est :\n116\, rue d’Havré à Mons. \nComment avoir plus d’infos ?\n\nFacebook : Renc’Autres
URL:https://www.toctoctoc.net/event/lespace-de-rencontres-le-local-a-mons/2024-10-30/
LOCATION:116 rue d’Havré\, 7000 Mons\, 116\, rue d'Havré\, Mons\, Hainaut\, 7000
CATEGORIES:Salon de rencontre
ATTACH;FMTTYPE=image/jpeg:https://www.toctoctoc.net/wp-content/uploads/2024/09/275942184_3059222871057743_9046653799542547423_n.jpg
ORGANIZER;CN="Sapha":MAILTO:info@sapha.be
END:VEVENT
END:VCALENDAR