BEGIN:VCALENDAR
VERSION:2.0
PRODID:-//TocTocToc ! - ECPv6.15.20//NONSGML v1.0//EN
CALSCALE:GREGORIAN
METHOD:PUBLISH
X-WR-CALNAME:TocTocToc !
X-ORIGINAL-URL:https://www.toctoctoc.net
X-WR-CALDESC:Évènements pour TocTocToc !
REFRESH-INTERVAL;VALUE=DURATION:PT1H
X-Robots-Tag:noindex
X-PUBLISHED-TTL:PT1H
BEGIN:VTIMEZONE
TZID:Europe/Brussels
BEGIN:DAYLIGHT
TZOFFSETFROM:+0100
TZOFFSETTO:+0200
TZNAME:CEST
DTSTART:20230326T010000
END:DAYLIGHT
BEGIN:STANDARD
TZOFFSETFROM:+0200
TZOFFSETTO:+0100
TZNAME:CET
DTSTART:20231029T010000
END:STANDARD
BEGIN:DAYLIGHT
TZOFFSETFROM:+0100
TZOFFSETTO:+0200
TZNAME:CEST
DTSTART:20240331T010000
END:DAYLIGHT
BEGIN:STANDARD
TZOFFSETFROM:+0200
TZOFFSETTO:+0100
TZNAME:CET
DTSTART:20241027T010000
END:STANDARD
BEGIN:DAYLIGHT
TZOFFSETFROM:+0100
TZOFFSETTO:+0200
TZNAME:CEST
DTSTART:20250330T010000
END:DAYLIGHT
BEGIN:STANDARD
TZOFFSETFROM:+0200
TZOFFSETTO:+0100
TZNAME:CET
DTSTART:20251026T010000
END:STANDARD
END:VTIMEZONE
BEGIN:VEVENT
DTSTART;TZID=Europe/Brussels:20241106T140000
DTEND;TZID=Europe/Brussels:20241106T183000
DTSTAMP:20260425T035333
CREATED:20240911T101948Z
LAST-MODIFIED:20241115T105255Z
UID:10000047-1730901600-1730917800@www.toctoctoc.net
SUMMARY:L'espace de rencontres "Le Local" à Mons
DESCRIPTION:Quoi ?\nLe SAPHA a lancé le projet “Renc’autres” en 2016.\nLe but est d’aider les adultes en situation de handicap à se rencontrer. \nIls proposent un lieu de rencontre appelé “Le Local”\, ouvert tous les mercredis de 14h à 18h30. \nOù ?\nL’adresse est :\n116\, rue d’Havré à Mons. \nComment avoir plus d’infos ?\n\nFacebook : Renc’Autres
URL:https://www.toctoctoc.net/event/lespace-de-rencontres-le-local-a-mons/2024-11-06/
LOCATION:116 rue d’Havré\, 7000 Mons\, 116\, rue d'Havré\, Mons\, Hainaut\, 7000
CATEGORIES:Salon de rencontre
ATTACH;FMTTYPE=image/jpeg:https://www.toctoctoc.net/wp-content/uploads/2024/09/275942184_3059222871057743_9046653799542547423_n.jpg
ORGANIZER;CN="Sapha":MAILTO:info@sapha.be
END:VEVENT
BEGIN:VEVENT
DTSTART;TZID=Europe/Brussels:20241113T140000
DTEND;TZID=Europe/Brussels:20241113T183000
DTSTAMP:20260425T035333
CREATED:20240911T101948Z
LAST-MODIFIED:20241115T105255Z
UID:10000048-1731506400-1731522600@www.toctoctoc.net
SUMMARY:L'espace de rencontres "Le Local" à Mons
DESCRIPTION:Quoi ?\nLe SAPHA a lancé le projet “Renc’autres” en 2016.\nLe but est d’aider les adultes en situation de handicap à se rencontrer. \nIls proposent un lieu de rencontre appelé “Le Local”\, ouvert tous les mercredis de 14h à 18h30. \nOù ?\nL’adresse est :\n116\, rue d’Havré à Mons. \nComment avoir plus d’infos ?\n\nFacebook : Renc’Autres
URL:https://www.toctoctoc.net/event/lespace-de-rencontres-le-local-a-mons/2024-11-13/
LOCATION:116 rue d’Havré\, 7000 Mons\, 116\, rue d'Havré\, Mons\, Hainaut\, 7000
CATEGORIES:Salon de rencontre
ATTACH;FMTTYPE=image/jpeg:https://www.toctoctoc.net/wp-content/uploads/2024/09/275942184_3059222871057743_9046653799542547423_n.jpg
ORGANIZER;CN="Sapha":MAILTO:info@sapha.be
END:VEVENT
BEGIN:VEVENT
DTSTART;TZID=Europe/Brussels:20241120T140000
DTEND;TZID=Europe/Brussels:20241120T183000
DTSTAMP:20260425T035333
CREATED:20241115T105307Z
LAST-MODIFIED:20250429T110547Z
UID:10000049-1732111200-1732127400@www.toctoctoc.net
SUMMARY:L'espace de rencontres "Le Local" à Mons
DESCRIPTION:Quoi ?\nLe SAPHA a lancé le projet “Renc’autres” en 2016.\nLe but est d’aider les adultes en situation de handicap à se rencontrer. \nIls proposent un lieu de rencontre appelé “Le Local”\, ouvert tous les mercredis de 14h à 18h30. \nOù ?\nL’adresse est :\n116\, rue d’Havré à Mons. \nComment avoir plus d’infos ?\n\nFacebook : Renc’Autres
URL:https://www.toctoctoc.net/event/lespace-de-rencontres-le-local-a-mons-2/2024-11-20/
LOCATION:116 rue d’Havré\, 7000 Mons\, 116\, rue d'Havré\, Mons\, Hainaut\, 7000
CATEGORIES:Salon de rencontre
ATTACH;FMTTYPE=image/jpeg:https://www.toctoctoc.net/wp-content/uploads/2024/09/275942184_3059222871057743_9046653799542547423_n.jpg
ORGANIZER;CN="Sapha":MAILTO:info@sapha.be
END:VEVENT
BEGIN:VEVENT
DTSTART;TZID=Europe/Brussels:20241127T140000
DTEND;TZID=Europe/Brussels:20241127T183000
DTSTAMP:20260425T035333
CREATED:20241115T105307Z
LAST-MODIFIED:20250429T110547Z
UID:10000050-1732716000-1732732200@www.toctoctoc.net
SUMMARY:L'espace de rencontres "Le Local" à Mons
DESCRIPTION:Quoi ?\nLe SAPHA a lancé le projet “Renc’autres” en 2016.\nLe but est d’aider les adultes en situation de handicap à se rencontrer. \nIls proposent un lieu de rencontre appelé “Le Local”\, ouvert tous les mercredis de 14h à 18h30. \nOù ?\nL’adresse est :\n116\, rue d’Havré à Mons. \nComment avoir plus d’infos ?\n\nFacebook : Renc’Autres
URL:https://www.toctoctoc.net/event/lespace-de-rencontres-le-local-a-mons-2/2024-11-27/
LOCATION:116 rue d’Havré\, 7000 Mons\, 116\, rue d'Havré\, Mons\, Hainaut\, 7000
CATEGORIES:Salon de rencontre
ATTACH;FMTTYPE=image/jpeg:https://www.toctoctoc.net/wp-content/uploads/2024/09/275942184_3059222871057743_9046653799542547423_n.jpg
ORGANIZER;CN="Sapha":MAILTO:info@sapha.be
END:VEVENT
END:VCALENDAR