BEGIN:VCALENDAR
VERSION:2.0
PRODID:-//TocTocToc ! - ECPv6.15.20//NONSGML v1.0//EN
CALSCALE:GREGORIAN
METHOD:PUBLISH
X-WR-CALNAME:TocTocToc !
X-ORIGINAL-URL:https://www.toctoctoc.net
X-WR-CALDESC:Évènements pour TocTocToc !
REFRESH-INTERVAL;VALUE=DURATION:PT1H
X-Robots-Tag:noindex
X-PUBLISHED-TTL:PT1H
BEGIN:VTIMEZONE
TZID:Europe/Brussels
BEGIN:DAYLIGHT
TZOFFSETFROM:+0100
TZOFFSETTO:+0200
TZNAME:CEST
DTSTART:20230326T010000
END:DAYLIGHT
BEGIN:STANDARD
TZOFFSETFROM:+0200
TZOFFSETTO:+0100
TZNAME:CET
DTSTART:20231029T010000
END:STANDARD
BEGIN:DAYLIGHT
TZOFFSETFROM:+0100
TZOFFSETTO:+0200
TZNAME:CEST
DTSTART:20240331T010000
END:DAYLIGHT
BEGIN:STANDARD
TZOFFSETFROM:+0200
TZOFFSETTO:+0100
TZNAME:CET
DTSTART:20241027T010000
END:STANDARD
BEGIN:DAYLIGHT
TZOFFSETFROM:+0100
TZOFFSETTO:+0200
TZNAME:CEST
DTSTART:20250330T010000
END:DAYLIGHT
BEGIN:STANDARD
TZOFFSETFROM:+0200
TZOFFSETTO:+0100
TZNAME:CET
DTSTART:20251026T010000
END:STANDARD
END:VTIMEZONE
BEGIN:VEVENT
DTSTART;TZID=Europe/Brussels:20240322T200000
DTEND;TZID=Europe/Brussels:20240323T000000
DTSTAMP:20260424T030031
CREATED:20240227T123634Z
LAST-MODIFIED:20240227T123634Z
UID:10000025-1711137600-1711152000@www.toctoctoc.net
SUMMARY:Friday Night Fever
DESCRIPTION:
URL:https://www.toctoctoc.net/event/friday-night-fever/
LOCATION:Charleroi\, rue des Français 147\, Charleroi\, Hainaut\, 6020
ATTACH;FMTTYPE=image/jpeg:https://www.toctoctoc.net/wp-content/uploads/2024/02/fridaynighfever-220324-20h.jpg
END:VEVENT
BEGIN:VEVENT
DTSTART;TZID=Europe/Brussels:20240320T080000
DTEND;TZID=Europe/Brussels:20240322T170000
DTSTAMP:20260424T030031
CREATED:20240226T092207Z
LAST-MODIFIED:20240227T124816Z
UID:10000026-1710921600-1711126800@www.toctoctoc.net
SUMMARY:Salon EnVIE d’Amour
DESCRIPTION:Pour qui\nLe salon « enVIE d’amour » est destiné à des personnes dont les capacités d’autonomie et d’indépendance sont entravées\, à leurs proches\, et aux professionnels qui les accompagnent. Personnes en situation de handicap\, aînés\, usagers du secteur de la santé mentale\, professionnels de l’aide à domicile\, de la première ligne de soins\, de l’accueil et de l’hébergement\, parents\, enfants… Nous sommes ou serons tous un jour concernés ! \nCe salon apportera conseils et solutions pour une vie affective\, relationnelle et sexuelle (VRAS) pour tous. \nAu programme\nÀ l’occasion de cette 4ème édition\, vous pourrez participer à de nombreux ateliers touchant notamment à l’image de soi\, à la relation ou encore au bien-être. \nVous y trouverez : \nDes animations théâtrales et musicales.\nDes films et animations dont des œuvres créées par les personnes accompagnées\nUn espace mieux-être corporel et relationnel avec de la psychomotricité relationnelle\, du yoga\, yoga du rire\, eutonie\, méditation pleine conscience\, hypnose\, bol tibétain\, etc.\nUn espace massages et réflexologie plantaire\nUn espace bien-être et image de soi avec l’intervention de services agréés par l’AVIQ\, de conseillères en images et d’écoles d’esthétique et de coiffure: soins adaptés de détente et de beauté\, ateliers couleurs\, coiffure\, atelier de relooking\, soin des ongles\, soin des mains\, maquillage\, cours d’auto-maquillage pour les personnes déficientes visuelles\, etc.\nUn espace créatif avec une animation variée assurée notamment par des établissements scolaires.\nUn espace psy/sexo regroupant les cabanes à secrets et l’espace « choix de lit\, choix de vie ».\nUn espace juridique où vous pourrez poser des questions sur vos droits.\nUn espace parentalité où plusieurs associations seront là pour répondre à vos questions et assurer des jeux et des animations (AMO point Jaune\, La Lumière\, la Ligue Braille\, Etincelle asbl\, l’ONE\, Comité Parentalité (France)\, ESENCA et le Centre de Planning Familial Soralia \, Adonnaissance\, le service d’accompagnement Itinéraires\,…)\nUn espace associatif regroupant plus de trente services et associations qui vous feront découvrir leurs services et vous proposerons diverses activités.\nDes cafés-causeries pour débattre ensemble de thématiques parfois complexes\nDes ateliers « Bonnes pratiques et boîte à outils » permettant de découvrir toutes sortes de projet innovants et d’outils ludo-pédagogiques\nDes expositions autour de l’amour\, notamment l’exposition Plaisir d’amour du CAL Namur\nDes studios photos pour repartir avec des souvenirs.\nDes expériences uniques immersives.\nUn espace restauration géré par des personnes en situation de handicap et des espaces boissons seront à votre disposition tout comme un lieu de détente (voir infos pratiques ci-dessous)
URL:https://www.toctoctoc.net/event/salon-envie-damour/
LOCATION:Charleroi\, rue des Français 147\, Charleroi\, Hainaut\, 6020
CATEGORIES:Salon de rencontre
ATTACH;FMTTYPE=image/jpeg:https://www.toctoctoc.net/wp-content/uploads/2024/02/salon-eviedamour-24.jpg
ORGANIZER;CN="AVIQ":MAILTO:formationsensibilisation@aviq.be
END:VEVENT
END:VCALENDAR