BEGIN:VCALENDAR
VERSION:2.0
PRODID:-//TocTocToc ! - ECPv6.15.20//NONSGML v1.0//EN
CALSCALE:GREGORIAN
METHOD:PUBLISH
X-WR-CALNAME:TocTocToc !
X-ORIGINAL-URL:https://www.toctoctoc.net
X-WR-CALDESC:Évènements pour TocTocToc !
REFRESH-INTERVAL;VALUE=DURATION:PT1H
X-Robots-Tag:noindex
X-PUBLISHED-TTL:PT1H
BEGIN:VTIMEZONE
TZID:Europe/Brussels
BEGIN:DAYLIGHT
TZOFFSETFROM:+0100
TZOFFSETTO:+0200
TZNAME:CEST
DTSTART:20250330T010000
END:DAYLIGHT
BEGIN:STANDARD
TZOFFSETFROM:+0200
TZOFFSETTO:+0100
TZNAME:CET
DTSTART:20251026T010000
END:STANDARD
BEGIN:DAYLIGHT
TZOFFSETFROM:+0100
TZOFFSETTO:+0200
TZNAME:CEST
DTSTART:20260329T010000
END:DAYLIGHT
BEGIN:STANDARD
TZOFFSETFROM:+0200
TZOFFSETTO:+0100
TZNAME:CET
DTSTART:20261025T010000
END:STANDARD
BEGIN:DAYLIGHT
TZOFFSETFROM:+0100
TZOFFSETTO:+0200
TZNAME:CEST
DTSTART:20270328T010000
END:DAYLIGHT
BEGIN:STANDARD
TZOFFSETFROM:+0200
TZOFFSETTO:+0100
TZNAME:CET
DTSTART:20271031T010000
END:STANDARD
END:VTIMEZONE
BEGIN:VEVENT
DTSTART;TZID=Europe/Brussels:20260219T091500
DTEND;TZID=Europe/Brussels:20260219T170000
DTSTAMP:20260421T165505
CREATED:20260203T103615Z
LAST-MODIFIED:20260203T105633Z
UID:10000348-1771492500-1771520400@www.toctoctoc.net
SUMMARY:Les Coeurs à Prendre - Visite du Musée des Sciences à Liège
DESCRIPTION:Les Coeurs à Prendre reviennent avec la visite du Musée des Sciences à Liège !\n\n  \nQuand ?\n Le jeudi 19 février toute la journée\n\n\n  \n\nOù ?\n\nRendez-vous  devant la gare de Namur à 9h15. \nRetour à 17h. \nLe prix : \nEntrée musée :\n\n14€ SANS European Disability Card.\n9€ AVEC European Disability Card.\n\nTrain :\n\nBIM 10.90€\nNON BIM : 18.20€\n\n  \n\nInscription obligatoire avant le 13 février au 081/23 10 05 auprès d’Auriane ou de Delphine
URL:https://www.toctoctoc.net/event/les-coeurs-a-prendre-visite-du-musee-des-sciences-a-liege/
LOCATION:Pl. de la Station 1\, 5000 Namur\, Pl. de la Station 1\, Namur\, Namur\, 5000\, Belgium
ATTACH;FMTTYPE=image/png:https://www.toctoctoc.net/wp-content/uploads/2025/01/FLYER-COEURS-A-PRENDRE-ok.png
END:VEVENT
END:VCALENDAR