BEGIN:VCALENDAR
VERSION:2.0
PRODID:-//TocTocToc ! - ECPv6.15.20//NONSGML v1.0//EN
CALSCALE:GREGORIAN
METHOD:PUBLISH
X-WR-CALNAME:TocTocToc !
X-ORIGINAL-URL:https://www.toctoctoc.net
X-WR-CALDESC:Évènements pour TocTocToc !
REFRESH-INTERVAL;VALUE=DURATION:PT1H
X-Robots-Tag:noindex
X-PUBLISHED-TTL:PT1H
BEGIN:VTIMEZONE
TZID:Europe/Brussels
BEGIN:DAYLIGHT
TZOFFSETFROM:+0100
TZOFFSETTO:+0200
TZNAME:CEST
DTSTART:20240331T010000
END:DAYLIGHT
BEGIN:STANDARD
TZOFFSETFROM:+0200
TZOFFSETTO:+0100
TZNAME:CET
DTSTART:20241027T010000
END:STANDARD
BEGIN:DAYLIGHT
TZOFFSETFROM:+0100
TZOFFSETTO:+0200
TZNAME:CEST
DTSTART:20250330T010000
END:DAYLIGHT
BEGIN:STANDARD
TZOFFSETFROM:+0200
TZOFFSETTO:+0100
TZNAME:CET
DTSTART:20251026T010000
END:STANDARD
BEGIN:DAYLIGHT
TZOFFSETFROM:+0100
TZOFFSETTO:+0200
TZNAME:CEST
DTSTART:20260329T010000
END:DAYLIGHT
BEGIN:STANDARD
TZOFFSETFROM:+0200
TZOFFSETTO:+0100
TZNAME:CET
DTSTART:20261025T010000
END:STANDARD
END:VTIMEZONE
BEGIN:VEVENT
DTSTART;TZID=Europe/Brussels:20251006T090000
DTEND;TZID=Europe/Brussels:20251006T160000
DTSTAMP:20260423T223640
CREATED:20250717T141306Z
LAST-MODIFIED:20250717T143333Z
UID:10000329-1759741200-1759766400@www.toctoctoc.net
SUMMARY:Rencontres et vous ? Rencontrez-vous !
DESCRIPTION:Conférence en Facile à comprendre et à écouter\nsur le thème de la rencontre\, ça vous intéresse ?\n\nIl y aura :\n\ndes ciné-débats\ndes ateliers\ndes jeux\ndes discussions\ndes découvertes de site internet\ndes rencontres\n\nOn présentera aussi TocTocToc !\nVient parler de ton expérience ! 😊\n\n\n\nQuand ?\n\nLe lundi 6 octobre 2025\nDe 9h à 16h00\n\n\n\nOù ?\nAVIQ – rue de la Rivelaine 11 – 6061 Charleroi \n  \n\n\nPour qui ?\n\n\nPour les personnes en situation de handicap avant tout !\nLes familles et les professionnels sont également les bienvenus.\n\n\n\n\nPour quoi faire ?\n\n\n\nParler et donner son avis sur les relations\, les rencontres\nApprendre de nouvelles choses\nFaire de nouvelles rencontres\n\n\n\n\nComment s’inscrire?\n\nUne possibilité d’inscription « je m’inscris seul.e »  ici\nUne possibilité d’inscription « je suis un professionnel et j’inscris pour des personnes  ici\nJe voudrais avoir des informations : formationsensibilisation@aviq.be\n\n\nQuel est le programme de la journée ?\nLe programme complet est disponible sur le site internet du Centre de Ressources Handicaps et Sexualités ici
URL:https://www.toctoctoc.net/event/rencontres-et-vous-rencontrez-vous/
LOCATION:rue de la Rivelaine 11 – 6061 Charleroi\, rue de la Rivelaine 11\, Charleroi\, Hainaut\, 6061\, Belgium
CATEGORIES:Découverte
ATTACH;FMTTYPE=image/jpeg:https://www.toctoctoc.net/wp-content/uploads/2025/07/2025-10-06-Affiche-Journee-rencontre-e1752761309754.jpg
ORGANIZER;CN="AVIQ":MAILTO:formationsensibilisation@aviq.be
END:VEVENT
END:VCALENDAR