BEGIN:VCALENDAR
VERSION:2.0
PRODID:-//TocTocToc ! - ECPv6.15.20//NONSGML v1.0//EN
CALSCALE:GREGORIAN
METHOD:PUBLISH
X-WR-CALNAME:TocTocToc !
X-ORIGINAL-URL:https://www.toctoctoc.net
X-WR-CALDESC:Évènements pour TocTocToc !
REFRESH-INTERVAL;VALUE=DURATION:PT1H
X-Robots-Tag:noindex
X-PUBLISHED-TTL:PT1H
BEGIN:VTIMEZONE
TZID:Europe/Brussels
BEGIN:DAYLIGHT
TZOFFSETFROM:+0100
TZOFFSETTO:+0200
TZNAME:CEST
DTSTART:20250330T010000
END:DAYLIGHT
BEGIN:STANDARD
TZOFFSETFROM:+0200
TZOFFSETTO:+0100
TZNAME:CET
DTSTART:20251026T010000
END:STANDARD
BEGIN:DAYLIGHT
TZOFFSETFROM:+0100
TZOFFSETTO:+0200
TZNAME:CEST
DTSTART:20260329T010000
END:DAYLIGHT
BEGIN:STANDARD
TZOFFSETFROM:+0200
TZOFFSETTO:+0100
TZNAME:CET
DTSTART:20261025T010000
END:STANDARD
BEGIN:DAYLIGHT
TZOFFSETFROM:+0100
TZOFFSETTO:+0200
TZNAME:CEST
DTSTART:20270328T010000
END:DAYLIGHT
BEGIN:STANDARD
TZOFFSETFROM:+0200
TZOFFSETTO:+0100
TZNAME:CET
DTSTART:20271031T010000
END:STANDARD
END:VTIMEZONE
BEGIN:VEVENT
DTSTART;TZID=Europe/Brussels:20260308T120000
DTEND;TZID=Europe/Brussels:20260308T180000
DTSTAMP:20260421T164326
CREATED:20260203T110445Z
LAST-MODIFIED:20260203T110808Z
UID:10000349-1772971200-1772992800@www.toctoctoc.net
SUMMARY:Les Coeurs à Prendre - Brunch humoristique: Chez Guillaume
DESCRIPTION:Les Coeurs à Prendre organise un brunch humoristique dans le restau Chez Guillaume\,\nC’est idéal pour rencontrer des gens !\n  \nQuand ?\n Le dimanche 8 mars en après-midi.\n\n\n  \n\nOù ?\n\nChez Guillaume\, Rue Lelièvre\, Pl. Saint-Aubain 4\, 5000 Namur. \nLe prix : \nBrunch: 30€\nSpectacle humoristique: 20€\n  \n\nInscription obligatoire au 081/23 10 05 auprès d’Auriane ou de Delphine
URL:https://www.toctoctoc.net/event/les-coeurs-a-prendre-brunch-humoristique-chez-guillaume/
LOCATION:Rue Lelièvre\, Pl. Saint-Aubain 4\, 5000 Namur\, Rue Lelièvre\, Pl. Saint-Aubain 4\, Namur\, Namur\, 5000\, Belgium
ATTACH;FMTTYPE=image/png:https://www.toctoctoc.net/wp-content/uploads/2025/01/FLYER-COEURS-A-PRENDRE-ok.png
END:VEVENT
END:VCALENDAR